BEGIN:VCALENDAR
VERSION:2.0
PRODID:-//Commonwealth ChalleNGe Youth Academy - ECPv6.0.12//NONSGML v1.0//EN
CALSCALE:GREGORIAN
METHOD:PUBLISH
X-ORIGINAL-URL:https://www.vachallenge.org
X-WR-CALDESC:Events for Commonwealth ChalleNGe Youth Academy
REFRESH-INTERVAL;VALUE=DURATION:PT1H
X-Robots-Tag:noindex
X-PUBLISHED-TTL:PT1H
BEGIN:VTIMEZONE
TZID:America/New_York
BEGIN:DAYLIGHT
TZOFFSETFROM:-0500
TZOFFSETTO:-0400
TZNAME:EDT
DTSTART:20220313T070000
END:DAYLIGHT
BEGIN:STANDARD
TZOFFSETFROM:-0400
TZOFFSETTO:-0500
TZNAME:EST
DTSTART:20221106T060000
END:STANDARD
END:VTIMEZONE
BEGIN:VEVENT
DTSTART;TZID=America/New_York:20221103T110000
DTEND;TZID=America/New_York:20221103T110000
DTSTAMP:20260421T182706
CREATED:20221028T182619Z
LAST-MODIFIED:20221028T182619Z
UID:4863-1667473200-1667473200@www.vachallenge.org
SUMMARY:Charlottesville\, VA Intro Commonwealth Challenge Academy
DESCRIPTION:Attending an orientation is a mandatory part of the application process\, we want to ensure parents/guardians and candidates are well informed of what we have to offer at Commonwealth ChalleNGe. \nThursday\, November 3\, 2022\, @11:00am \nNorthside Library \n705 Rio Rd W \nCharlottesville\, VA 22901 \nRSVP is encouraged but not required. \nPlease email \nvsmith@vachallenge.org to RSVP.
URL:https://www.vachallenge.org/event/charlottesville-va-intro-commonwealth-challenge-academy/
END:VEVENT
BEGIN:VEVENT
DTSTART;TZID=America/New_York:20221110T150000
DTEND;TZID=America/New_York:20221110T150000
DTSTAMP:20260421T182706
CREATED:20221028T180021Z
LAST-MODIFIED:20221028T180021Z
UID:4856-1668092400-1668092400@www.vachallenge.org
SUMMARY:Fredericksburg\, VA Intro Commonwealth Challenge Academy
DESCRIPTION:Attending an orientation is a mandatory part of the application process\, we want to ensure parents/guardians and candidates are well informed of what we have to offer at Commonwealth ChalleNGe. \nThursday\, November 10\, 2022\, @3:00pm \nFredericksburg Public Library \n1201 Caroline St. \nFredericksburg\, VA 22401 \nRSVP is encouraged but not required. \nPlease email lboykin@vachallenge.org to RSVP.
URL:https://www.vachallenge.org/event/fredericksburg-va-intro-commonwealth-challenge-academy/
END:VEVENT
BEGIN:VEVENT
DTSTART;TZID=America/New_York:20221116T100000
DTEND;TZID=America/New_York:20221116T100000
DTSTAMP:20260421T182706
CREATED:20221028T173533Z
LAST-MODIFIED:20221028T173533Z
UID:4851-1668592800-1668592800@www.vachallenge.org
SUMMARY:Roanoke\, VA Intro Commonwealth Challenge Academy
DESCRIPTION:Attending an orientation is a mandatory part of the application process\, we want to ensure parents/guardians and candidates are well informed of what we have to offer at Commonwealth ChalleNGe Youth Academy. We are hosting an orientation at your local Library. Seating is limited walk-ins welcomed \nWednesday\, November 16\, 2022\, @ 10:00 am\nRoanoke Public Library \n706 S. Jefferson St.\nRoanoke\, VA 24016 \nSeating is limited RSVP is encouraged walk-ins welcomed \nPlease email Vsmith@vachallenge.org to RSVP.
URL:https://www.vachallenge.org/event/roanoke-va-intro-commonwealth-challenge-academy/
END:VEVENT
BEGIN:VEVENT
DTSTART;TZID=America/New_York:20221116T150000
DTEND;TZID=America/New_York:20221116T150000
DTSTAMP:20260421T182706
CREATED:20221028T174407Z
LAST-MODIFIED:20221028T174407Z
UID:4853-1668610800-1668610800@www.vachallenge.org
SUMMARY:Newport News\, VA Intro Commonwealth Challenge Academy
DESCRIPTION:Attending an orientation is a mandatory part of the application process\, we want to ensure parents/guardians and candidates are well informed of what we have to offer at Commonwealth ChalleNGe Youth Academy. We are hosting an orientation at your local Library. Seating is limited walk-ins welcomed \nWednesday\, November 16\, 2022\, @ 3:00 pm\nGrissom Public Library \n366 Deshazor Dr.\nNewport News\, VA 23608 \nSeating is limited RSVP is encouraged walk-ins welcomed \nPlease email lboykin@vachallenge.org to RSVP.
URL:https://www.vachallenge.org/event/newport-news-va-intro-commonwealth-challenge-academy/
END:VEVENT
BEGIN:VEVENT
DTSTART;TZID=America/New_York:20221116T150000
DTEND;TZID=America/New_York:20221116T150000
DTSTAMP:20260421T182706
CREATED:20221028T182135Z
LAST-MODIFIED:20221028T182135Z
UID:4861-1668610800-1668610800@www.vachallenge.org
SUMMARY:Arlington\, VA Intro Commonwealth Challenge Academy
DESCRIPTION:Attending an orientation is a mandatory part of the application process\, we want to ensure parents/guardians and candidates are well informed of what we have to offer at Commonwealth ChalleNGe. \nWednesday\, November 16\, 2022\, @3:00pm \nArlington Central Library \n1015 N Quincy St. \nArlington\, VA 22201 \nRSVP is encouraged but not required. \nPlease email \nvdelgado@vachallenge.org to RSVP.
URL:https://www.vachallenge.org/event/arlington-va-intro-commonwealth-challenge-academy/
END:VEVENT
BEGIN:VEVENT
DTSTART;TZID=America/New_York:20221118T140000
DTEND;TZID=America/New_York:20221118T140000
DTSTAMP:20260421T182706
CREATED:20221028T181435Z
LAST-MODIFIED:20221028T182827Z
UID:4859-1668780000-1668780000@www.vachallenge.org
SUMMARY:Chesterfield\, VA Intro Commonweath Challenge Academy
DESCRIPTION:Attending an orientation is a mandatory part of the application process\, we want to ensure parents/guardians and candidates are well informed of what we have to offer at Commonwealth ChalleNGe. \nFriday\, November 18\, 2022\, @2:00pm \nChesterfield Central Library \n7051 Lucy Corr Blvd \nChesterfield\, VA 23832 \nRSVP is encouraged but not required. \nPlease email \nlboykin@vachallenge.org to RSVP.
URL:https://www.vachallenge.org/event/chesterfield-va-intro-commonweath-challenge-academy/
END:VEVENT
END:VCALENDAR