BEGIN:VCALENDAR
VERSION:2.0
PRODID:-//Commonwealth ChalleNGe Youth Academy - ECPv6.0.12//NONSGML v1.0//EN
CALSCALE:GREGORIAN
METHOD:PUBLISH
X-WR-CALNAME:Commonwealth ChalleNGe Youth Academy
X-ORIGINAL-URL:https://www.vachallenge.org
X-WR-CALDESC:Events for Commonwealth ChalleNGe Youth Academy
REFRESH-INTERVAL;VALUE=DURATION:PT1H
X-Robots-Tag:noindex
X-PUBLISHED-TTL:PT1H
BEGIN:VTIMEZONE
TZID:America/New_York
BEGIN:DAYLIGHT
TZOFFSETFROM:-0500
TZOFFSETTO:-0400
TZNAME:EDT
DTSTART:20230312T070000
END:DAYLIGHT
BEGIN:STANDARD
TZOFFSETFROM:-0400
TZOFFSETTO:-0500
TZNAME:EST
DTSTART:20231105T060000
END:STANDARD
BEGIN:DAYLIGHT
TZOFFSETFROM:-0500
TZOFFSETTO:-0400
TZNAME:EDT
DTSTART:20240310T070000
END:DAYLIGHT
BEGIN:STANDARD
TZOFFSETFROM:-0400
TZOFFSETTO:-0500
TZNAME:EST
DTSTART:20241103T060000
END:STANDARD
BEGIN:DAYLIGHT
TZOFFSETFROM:-0500
TZOFFSETTO:-0400
TZNAME:EDT
DTSTART:20250309T070000
END:DAYLIGHT
BEGIN:STANDARD
TZOFFSETFROM:-0400
TZOFFSETTO:-0500
TZNAME:EST
DTSTART:20251102T060000
END:STANDARD
END:VTIMEZONE
BEGIN:VEVENT
DTSTART;TZID=America/New_York:20230524T180000
DTEND;TZID=America/New_York:20230524T180000
DTSTAMP:20260421T131915
CREATED:20221028T184248Z
LAST-MODIFIED:20230406T183610Z
UID:4866-1684951200-1684951200@www.vachallenge.org
SUMMARY:7 Cities Intro Commonwealth Challenge Academy
DESCRIPTION:Attending an orientation is a mandatory part of the application process\, we want to ensure parents/guardians and candidates are well informed of what we have to offer at the Commonwealth ChalleNGe Youth Academy. \nThursday June 1\, 2023@6pm \nState Military Reservation \n1208 South Birdneck Rd \nVirginia Beach\, VA 23451 \nSeating is limited. \nRSVP is encouraged but not required. \nWalk ins are welcome \nPlease email \nlboykin@vachallenge.org to RSVP.
URL:https://www.vachallenge.org/event/7-cities-intro-commonwealth-challenge-academy/
END:VEVENT
BEGIN:VEVENT
DTSTART;TZID=America/New_York:20250109T080000
DTEND;TZID=America/New_York:20250109T170000
DTSTAMP:20260421T131915
CREATED:20250206T200921Z
LAST-MODIFIED:20250206T201341Z
UID:5075-1736409600-1736442000@www.vachallenge.org
SUMMARY:In-Processing Class 62 - January 14\, 2025
DESCRIPTION:Commonwealth Challenge Youth Academy welcomes you to in processing at State Military Reservation.  Please see below for your assigned time. \nCCYA will conduct in-processing in the KSPAN.  Parents will participate in a zoom in processing briefing on Jan. 9th. \nMales\, Last Names A – M 0900 \nMales\, Last Names\, M – z 1100 \nFemales 1330 \n 
URL:https://www.vachallenge.org/event/open-house-orientation-2025/
END:VEVENT
BEGIN:VEVENT
DTSTART;TZID=America/New_York:20250203T080000
DTEND;TZID=America/New_York:20250425T170000
DTSTAMP:20260421T131915
CREATED:20250206T201626Z
LAST-MODIFIED:20250206T220158Z
UID:5079-1738569600-1745600400@www.vachallenge.org
SUMMARY:Open House & Orientation
DESCRIPTION:Commonwealth Challenge Youth Academy is working on dates for Open House visits for community members and school personnel as well as open house visits for interested students and their families.  We will keep you all posted on the events that we plan.  Please do not hesitate to reach out to admissions@vachallenge.org to check a date if you will be in the area.
URL:https://www.vachallenge.org/event/open-house-orientation/
END:VEVENT
END:VCALENDAR