BEGIN:VCALENDAR
VERSION:2.0
PRODID:-//Commonwealth ChalleNGe Youth Academy - ECPv6.0.12//NONSGML v1.0//EN
CALSCALE:GREGORIAN
METHOD:PUBLISH
X-ORIGINAL-URL:https://www.vachallenge.org
X-WR-CALDESC:Events for Commonwealth ChalleNGe Youth Academy
REFRESH-INTERVAL;VALUE=DURATION:PT1H
X-Robots-Tag:noindex
X-PUBLISHED-TTL:PT1H
BEGIN:VTIMEZONE
TZID:America/New_York
BEGIN:DAYLIGHT
TZOFFSETFROM:-0500
TZOFFSETTO:-0400
TZNAME:EDT
DTSTART:20220313T070000
END:DAYLIGHT
BEGIN:STANDARD
TZOFFSETFROM:-0400
TZOFFSETTO:-0500
TZNAME:EST
DTSTART:20221106T060000
END:STANDARD
END:VTIMEZONE
BEGIN:VEVENT
DTSTART;TZID=America/New_York:20220827T090000
DTEND;TZID=America/New_York:20220827T090000
DTSTAMP:20260422T010212
CREATED:20220331T114911Z
LAST-MODIFIED:20220331T114911Z
UID:4708-1661590800-1661590800@www.vachallenge.org
SUMMARY:Class 57 Graduation 27 August 2022
DESCRIPTION:Graduation for this class is planned for 27 August 2022. We will update with additional information as we get closer to graduation.
URL:https://www.vachallenge.org/event/class-57-graduation-27-august-2022/
END:VEVENT
END:VCALENDAR