BEGIN:VCALENDAR
VERSION:2.0
PRODID:-//Commonwealth ChalleNGe Youth Academy - ECPv6.0.12//NONSGML v1.0//EN
CALSCALE:GREGORIAN
METHOD:PUBLISH
X-WR-CALNAME:Commonwealth ChalleNGe Youth Academy
X-ORIGINAL-URL:https://www.vachallenge.org
X-WR-CALDESC:Events for Commonwealth ChalleNGe Youth Academy
REFRESH-INTERVAL;VALUE=DURATION:PT1H
X-Robots-Tag:noindex
X-PUBLISHED-TTL:PT1H
BEGIN:VTIMEZONE
TZID:America/New_York
BEGIN:DAYLIGHT
TZOFFSETFROM:-0500
TZOFFSETTO:-0400
TZNAME:EDT
DTSTART:20220313T070000
END:DAYLIGHT
BEGIN:STANDARD
TZOFFSETFROM:-0400
TZOFFSETTO:-0500
TZNAME:EST
DTSTART:20221106T060000
END:STANDARD
END:VTIMEZONE
BEGIN:VEVENT
DTSTART;TZID=America/New_York:20220816T160000
DTEND;TZID=America/New_York:20220816T160000
DTSTAMP:20260422T010206
CREATED:20220813T172411Z
LAST-MODIFIED:20220813T172411Z
UID:4806-1660665600-1660665600@www.vachallenge.org
SUMMARY:Virginia Beach\, Class 58 Orientation
DESCRIPTION:Attending an orientation is a mandatory part of the application process\, we want to ensure parents/guardians and candidates are well informed of what we have to offer at Commonwealth ChalleNGe Youth Academy. We are hosting an orientation at the local library. Seating is limited. \nTuesday\, Aug 16\, 2022\, @ 4pm\nVirginia Beach Central Library\n4100 Virginia Beach Blvd\nVirginia Beach\, VA  23462 \nSeating is limited RSVP is encouraged. \nPlease email Vsmith@vachallenge.org to RSVP.
URL:https://www.vachallenge.org/event/virginia-beach-class-58-orientation/
END:VEVENT
END:VCALENDAR