BEGIN:VCALENDAR
VERSION:2.0
PRODID:-//Commonwealth ChalleNGe Youth Academy - ECPv6.0.12//NONSGML v1.0//EN
CALSCALE:GREGORIAN
METHOD:PUBLISH
X-ORIGINAL-URL:https://www.vachallenge.org
X-WR-CALDESC:Events for Commonwealth ChalleNGe Youth Academy
REFRESH-INTERVAL;VALUE=DURATION:PT1H
X-Robots-Tag:noindex
X-PUBLISHED-TTL:PT1H
BEGIN:VTIMEZONE
TZID:America/New_York
BEGIN:DAYLIGHT
TZOFFSETFROM:-0500
TZOFFSETTO:-0400
TZNAME:EDT
DTSTART:20220313T070000
END:DAYLIGHT
BEGIN:STANDARD
TZOFFSETFROM:-0400
TZOFFSETTO:-0500
TZNAME:EST
DTSTART:20221106T060000
END:STANDARD
END:VTIMEZONE
BEGIN:VEVENT
DTSTART;TZID=America/New_York:20220813T140000
DTEND;TZID=America/New_York:20220813T170000
DTSTAMP:20260422T010212
CREATED:20220725T173848Z
LAST-MODIFIED:20220813T170448Z
UID:4772-1660399200-1660410000@www.vachallenge.org
SUMMARY:Woodbridge\, VA  Class 58 Orientation
DESCRIPTION:Attending an orientation is a mandatory part of the application process\, we want to ensure parents/guardians and candidates are well informed of what we have to offer at Commonwealth ChalleNGe Youth Academy. We are also hosting  orientation and tour of the campus. Seating is limited. \nSaturday\, Aug 13\, 2022\, @ 2:00pm\nPotomac Library\n2201 Opitz Blvd\nWoodbridge\, VA  22191 \nSeating is limited RSVP is encouraged. \nPlease email Vsmith@vachallenge.org to RSVP.
URL:https://www.vachallenge.org/event/class-58-orientation-5/
END:VEVENT
END:VCALENDAR