BEGIN:VCALENDAR
VERSION:2.0
PRODID:-//Commonwealth ChalleNGe Youth Academy - ECPv6.0.12//NONSGML v1.0//EN
CALSCALE:GREGORIAN
METHOD:PUBLISH
X-ORIGINAL-URL:https://www.vachallenge.org
X-WR-CALDESC:Events for Commonwealth ChalleNGe Youth Academy
REFRESH-INTERVAL;VALUE=DURATION:PT1H
X-Robots-Tag:noindex
X-PUBLISHED-TTL:PT1H
BEGIN:VTIMEZONE
TZID:America/New_York
BEGIN:DAYLIGHT
TZOFFSETFROM:-0500
TZOFFSETTO:-0400
TZNAME:EDT
DTSTART:20220313T070000
END:DAYLIGHT
BEGIN:STANDARD
TZOFFSETFROM:-0400
TZOFFSETTO:-0500
TZNAME:EST
DTSTART:20221106T060000
END:STANDARD
END:VTIMEZONE
BEGIN:VEVENT
DTSTART;TZID=America/New_York:20220810T170000
DTEND;TZID=America/New_York:20220810T190000
DTSTAMP:20260422T010213
CREATED:20220725T172336Z
LAST-MODIFIED:20220725T172336Z
UID:4765-1660150800-1660158000@www.vachallenge.org
SUMMARY:Class 58 Orientation
DESCRIPTION:Attending an orientation is a mandatory part of the application process\, we want to ensure parents/guardians and candidates are well informed of what we have to offer at Commonwealth ChalleNGe Youth Academy. We are hosting an orientation and tour of the campus. Seating is limited. \nWednesday\, Aug 10\, 2022\, @ 5pm\nCommonwealth ChalleNGe Youth Academy\n1208 S. Birdneck Road\, State Military Reservation\nVirginia Beach\, VA  23451 \nSeating is limited RSVP is encouraged. \nPlease email Vsmith@vachallenge.org to RSVP.
URL:https://www.vachallenge.org/event/class-58-orientation-2/
END:VEVENT
END:VCALENDAR