BEGIN:VCALENDAR
VERSION:2.0
PRODID:-//Commonwealth ChalleNGe Youth Academy - ECPv6.0.12//NONSGML v1.0//EN
CALSCALE:GREGORIAN
METHOD:PUBLISH
X-ORIGINAL-URL:https://www.vachallenge.org
X-WR-CALDESC:Events for Commonwealth ChalleNGe Youth Academy
REFRESH-INTERVAL;VALUE=DURATION:PT1H
X-Robots-Tag:noindex
X-PUBLISHED-TTL:PT1H
BEGIN:VTIMEZONE
TZID:America/New_York
BEGIN:DAYLIGHT
TZOFFSETFROM:-0500
TZOFFSETTO:-0400
TZNAME:EDT
DTSTART:20220313T070000
END:DAYLIGHT
BEGIN:STANDARD
TZOFFSETFROM:-0400
TZOFFSETTO:-0500
TZNAME:EST
DTSTART:20221106T060000
END:STANDARD
END:VTIMEZONE
BEGIN:VEVENT
DTSTART;TZID=America/New_York:20220809T160000
DTEND;TZID=America/New_York:20220809T180000
DTSTAMP:20260422T010320
CREATED:20220725T171651Z
LAST-MODIFIED:20220727T135513Z
UID:4762-1660060800-1660068000@www.vachallenge.org
SUMMARY:Petersburg\, VA  Class 58 Orientation
DESCRIPTION:Attending an orientation is a mandatory part of the application process\, we want to ensure parents/guardians and candidates are well informed of what we have to offer at Commonwealth ChalleNGe Youth Academy. We are hosting  orientations and tour of the campus also. Seating is limited. \nMonday\, Aug  9\, 2022\, @ 4:00pm \nThe Petersburg Library \n201 W. Washington St. Petersburg\, VA 23803 \n  \nSeating is limited RSVP is encouraged. \nPlease email Vsmith@vachallenge.org to RSVP.
URL:https://www.vachallenge.org/event/class-58-orientation/
LOCATION:201 West Washington St. \, Petersburg\, VA 23803\, 210 West Washington St.\, Petersburg\, 23803\, United States
END:VEVENT
END:VCALENDAR